BEGIN:VCALENDAR
VERSION:2.0
PRODID:-//Vessel Unto Honour CAC - ECPv6.15.14//NONSGML v1.0//EN
CALSCALE:GREGORIAN
METHOD:PUBLISH
X-WR-CALNAME:Vessel Unto Honour CAC
X-ORIGINAL-URL:https://www.cacvuh.org
X-WR-CALDESC:Events for Vessel Unto Honour CAC
REFRESH-INTERVAL;VALUE=DURATION:PT1H
X-Robots-Tag:noindex
X-PUBLISHED-TTL:PT1H
BEGIN:VTIMEZONE
TZID:UTC
BEGIN:STANDARD
TZOFFSETFROM:+0000
TZOFFSETTO:+0000
TZNAME:UTC
DTSTART:20260101T000000
END:STANDARD
END:VTIMEZONE
BEGIN:VEVENT
DTSTART;TZID=UTC:20271001T080000
DTEND;TZID=UTC:20271001T170000
DTSTAMP:20260422T154904
CREATED:20260118T111022Z
LAST-MODIFIED:20260118T111022Z
UID:10004402-1822377600-1822410000@www.cacvuh.org
SUMMARY:Eagles Night
DESCRIPTION:
URL:https://www.cacvuh.org/event/eagles-night/2027-10-01/
LOCATION:Zoom
ATTACH;FMTTYPE=image/jpeg:https://www.cacvuh.org/wp-content/uploads/2021/08/Eagles-Night_Announcement_1920x1080.jpg
ORGANIZER;CN="C.A.C. Vessel Unto Honour":MAILTO:VuntoH@hotmail.com
END:VEVENT
BEGIN:VEVENT
DTSTART;TZID=UTC:20271003T093000
DTEND;TZID=UTC:20271003T123000
DTSTAMP:20260422T154904
CREATED:20260118T104748Z
LAST-MODIFIED:20260118T104748Z
UID:10003830-1822555800-1822566600@www.cacvuh.org
SUMMARY:Sunday Service
DESCRIPTION:
URL:https://www.cacvuh.org/event/sunday-service/2027-10-03/
LOCATION:C.A.C. Vessel Unto Honour\, Mill Mead Business Centre\, Millmead Road\, Tottenham Hale\, London\, N17 9QU\, United Kingdom
ATTACH;FMTTYPE=image/jpeg:https://www.cacvuh.org/wp-content/uploads/2021/05/Sunday-Service_Announcement_1920x1080.jpg
ORGANIZER;CN="C.A.C. Vessel Unto Honour":MAILTO:VuntoH@hotmail.com
END:VEVENT
BEGIN:VEVENT
DTSTART;TZID=UTC:20271005T080000
DTEND;TZID=UTC:20271005T170000
DTSTAMP:20260422T154904
CREATED:20260118T110823Z
LAST-MODIFIED:20260118T110823Z
UID:10004210-1822723200-1822755600@www.cacvuh.org
SUMMARY:Gathering of Glory
DESCRIPTION:
URL:https://www.cacvuh.org/event/gathering-of-glory/2027-10-05/
LOCATION:Zoom
ATTACH;FMTTYPE=image/jpeg:https://www.cacvuh.org/wp-content/uploads/2021/08/Gathering_Of_Glory_Announcement_1920x1080.jpg
END:VEVENT
BEGIN:VEVENT
DTSTART;TZID=UTC:20271010T093000
DTEND;TZID=UTC:20271010T123000
DTSTAMP:20260422T154904
CREATED:20260118T104748Z
LAST-MODIFIED:20260118T104748Z
UID:10003831-1823160600-1823171400@www.cacvuh.org
SUMMARY:Sunday Service
DESCRIPTION:
URL:https://www.cacvuh.org/event/sunday-service/2027-10-10/
LOCATION:C.A.C. Vessel Unto Honour\, Mill Mead Business Centre\, Millmead Road\, Tottenham Hale\, London\, N17 9QU\, United Kingdom
ATTACH;FMTTYPE=image/jpeg:https://www.cacvuh.org/wp-content/uploads/2021/05/Sunday-Service_Announcement_1920x1080.jpg
ORGANIZER;CN="C.A.C. Vessel Unto Honour":MAILTO:VuntoH@hotmail.com
END:VEVENT
BEGIN:VEVENT
DTSTART;TZID=UTC:20271010T133000
DTEND;TZID=UTC:20271010T143000
DTSTAMP:20260422T154904
CREATED:20260118T105349Z
LAST-MODIFIED:20260118T105349Z
UID:10004022-1823175000-1823178600@www.cacvuh.org
SUMMARY:Spark Fellowship: Youth Service
DESCRIPTION:
URL:https://www.cacvuh.org/event/spark-fellowship-youth-service/2027-10-10/
LOCATION:C.A.C. Vessel Unto Honour\, Mill Mead Business Centre\, Millmead Road\, Tottenham Hale\, London\, N17 9QU\, United Kingdom
ATTACH;FMTTYPE=image/jpeg:https://www.cacvuh.org/wp-content/uploads/2024/10/rebrand-3_slide_final.jpg
END:VEVENT
BEGIN:VEVENT
DTSTART;TZID=UTC:20271012T080000
DTEND;TZID=UTC:20271012T170000
DTSTAMP:20260422T154904
CREATED:20260118T110823Z
LAST-MODIFIED:20260118T110823Z
UID:10004211-1823328000-1823360400@www.cacvuh.org
SUMMARY:Gathering of Glory
DESCRIPTION:
URL:https://www.cacvuh.org/event/gathering-of-glory/2027-10-12/
LOCATION:Zoom
ATTACH;FMTTYPE=image/jpeg:https://www.cacvuh.org/wp-content/uploads/2021/08/Gathering_Of_Glory_Announcement_1920x1080.jpg
END:VEVENT
BEGIN:VEVENT
DTSTART;TZID=UTC:20271017T093000
DTEND;TZID=UTC:20271017T123000
DTSTAMP:20260422T154904
CREATED:20260118T104748Z
LAST-MODIFIED:20260118T104748Z
UID:10003832-1823765400-1823776200@www.cacvuh.org
SUMMARY:Sunday Service
DESCRIPTION:
URL:https://www.cacvuh.org/event/sunday-service/2027-10-17/
LOCATION:C.A.C. Vessel Unto Honour\, Mill Mead Business Centre\, Millmead Road\, Tottenham Hale\, London\, N17 9QU\, United Kingdom
ATTACH;FMTTYPE=image/jpeg:https://www.cacvuh.org/wp-content/uploads/2021/05/Sunday-Service_Announcement_1920x1080.jpg
ORGANIZER;CN="C.A.C. Vessel Unto Honour":MAILTO:VuntoH@hotmail.com
END:VEVENT
BEGIN:VEVENT
DTSTART;TZID=UTC:20271017T133000
DTEND;TZID=UTC:20271017T143000
DTSTAMP:20260422T154904
CREATED:20260118T105638Z
LAST-MODIFIED:20260118T110349Z
UID:10004082-1823779800-1823783400@www.cacvuh.org
SUMMARY:Spark Fellowship: Spark Talk
DESCRIPTION:
URL:https://www.cacvuh.org/event/spark-fellowship-spark-talk/2027-10-17/
LOCATION:C.A.C. Vessel Unto Honour\, Mill Mead Business Centre\, Millmead Road\, Tottenham Hale\, London\, N17 9QU\, United Kingdom
ATTACH;FMTTYPE=image/jpeg:https://www.cacvuh.org/wp-content/uploads/2024/10/rebrand-3_slide_final.jpg
END:VEVENT
BEGIN:VEVENT
DTSTART;TZID=UTC:20271019T080000
DTEND;TZID=UTC:20271019T170000
DTSTAMP:20260422T154904
CREATED:20260118T110823Z
LAST-MODIFIED:20260118T110823Z
UID:10004212-1823932800-1823965200@www.cacvuh.org
SUMMARY:Gathering of Glory
DESCRIPTION:
URL:https://www.cacvuh.org/event/gathering-of-glory/2027-10-19/
LOCATION:Zoom
ATTACH;FMTTYPE=image/jpeg:https://www.cacvuh.org/wp-content/uploads/2021/08/Gathering_Of_Glory_Announcement_1920x1080.jpg
END:VEVENT
BEGIN:VEVENT
DTSTART;TZID=UTC:20271024T093000
DTEND;TZID=UTC:20271024T123000
DTSTAMP:20260422T154904
CREATED:20260118T104748Z
LAST-MODIFIED:20260118T104748Z
UID:10003833-1824370200-1824381000@www.cacvuh.org
SUMMARY:Sunday Service
DESCRIPTION:
URL:https://www.cacvuh.org/event/sunday-service/2027-10-24/
LOCATION:C.A.C. Vessel Unto Honour\, Mill Mead Business Centre\, Millmead Road\, Tottenham Hale\, London\, N17 9QU\, United Kingdom
ATTACH;FMTTYPE=image/jpeg:https://www.cacvuh.org/wp-content/uploads/2021/05/Sunday-Service_Announcement_1920x1080.jpg
ORGANIZER;CN="C.A.C. Vessel Unto Honour":MAILTO:VuntoH@hotmail.com
END:VEVENT
BEGIN:VEVENT
DTSTART;TZID=UTC:20271026T080000
DTEND;TZID=UTC:20271026T170000
DTSTAMP:20260422T154904
CREATED:20260118T110823Z
LAST-MODIFIED:20260118T110823Z
UID:10004213-1824537600-1824570000@www.cacvuh.org
SUMMARY:Gathering of Glory
DESCRIPTION:
URL:https://www.cacvuh.org/event/gathering-of-glory/2027-10-26/
LOCATION:Zoom
ATTACH;FMTTYPE=image/jpeg:https://www.cacvuh.org/wp-content/uploads/2021/08/Gathering_Of_Glory_Announcement_1920x1080.jpg
END:VEVENT
BEGIN:VEVENT
DTSTART;TZID=UTC:20271031T093000
DTEND;TZID=UTC:20271031T123000
DTSTAMP:20260422T154904
CREATED:20260118T104748Z
LAST-MODIFIED:20260118T104748Z
UID:10003834-1824975000-1824985800@www.cacvuh.org
SUMMARY:Sunday Service
DESCRIPTION:
URL:https://www.cacvuh.org/event/sunday-service/2027-10-31/
LOCATION:C.A.C. Vessel Unto Honour\, Mill Mead Business Centre\, Millmead Road\, Tottenham Hale\, London\, N17 9QU\, United Kingdom
ATTACH;FMTTYPE=image/jpeg:https://www.cacvuh.org/wp-content/uploads/2021/05/Sunday-Service_Announcement_1920x1080.jpg
ORGANIZER;CN="C.A.C. Vessel Unto Honour":MAILTO:VuntoH@hotmail.com
END:VEVENT
END:VCALENDAR