BEGIN:VCALENDAR
VERSION:2.0
PRODID:-//Vessel Unto Honour CAC - ECPv6.15.14//NONSGML v1.0//EN
CALSCALE:GREGORIAN
METHOD:PUBLISH
X-ORIGINAL-URL:https://www.cacvuh.org
X-WR-CALDESC:Events for Vessel Unto Honour CAC
REFRESH-INTERVAL;VALUE=DURATION:PT1H
X-Robots-Tag:noindex
X-PUBLISHED-TTL:PT1H
BEGIN:VTIMEZONE
TZID:UTC
BEGIN:STANDARD
TZOFFSETFROM:+0000
TZOFFSETTO:+0000
TZNAME:UTC
DTSTART:20260101T000000
END:STANDARD
END:VTIMEZONE
BEGIN:VEVENT
DTSTART;TZID=UTC:20270502T093000
DTEND;TZID=UTC:20270502T123000
DTSTAMP:20260422T074920
CREATED:20260118T104748Z
LAST-MODIFIED:20260118T104748Z
UID:10003808-1809250200-1809261000@www.cacvuh.org
SUMMARY:Sunday Service
DESCRIPTION:
URL:https://www.cacvuh.org/event/sunday-service/2027-05-02/
LOCATION:C.A.C. Vessel Unto Honour\, Mill Mead Business Centre\, Millmead Road\, Tottenham Hale\, London\, N17 9QU\, United Kingdom
ATTACH;FMTTYPE=image/jpeg:https://www.cacvuh.org/wp-content/uploads/2021/05/Sunday-Service_Announcement_1920x1080.jpg
ORGANIZER;CN="C.A.C. Vessel Unto Honour":MAILTO:VuntoH@hotmail.com
END:VEVENT
BEGIN:VEVENT
DTSTART;TZID=UTC:20270504T080000
DTEND;TZID=UTC:20270504T170000
DTSTAMP:20260422T074920
CREATED:20260118T110823Z
LAST-MODIFIED:20260118T110823Z
UID:10004188-1809417600-1809450000@www.cacvuh.org
SUMMARY:Gathering of Glory
DESCRIPTION:
URL:https://www.cacvuh.org/event/gathering-of-glory/2027-05-04/
LOCATION:Zoom
ATTACH;FMTTYPE=image/jpeg:https://www.cacvuh.org/wp-content/uploads/2021/08/Gathering_Of_Glory_Announcement_1920x1080.jpg
END:VEVENT
BEGIN:VEVENT
DTSTART;TZID=UTC:20270507T080000
DTEND;TZID=UTC:20270507T170000
DTSTAMP:20260422T074920
CREATED:20260118T111022Z
LAST-MODIFIED:20260118T111022Z
UID:10004397-1809676800-1809709200@www.cacvuh.org
SUMMARY:Eagles Night
DESCRIPTION:
URL:https://www.cacvuh.org/event/eagles-night/2027-05-07/
LOCATION:Zoom
ATTACH;FMTTYPE=image/jpeg:https://www.cacvuh.org/wp-content/uploads/2021/08/Eagles-Night_Announcement_1920x1080.jpg
ORGANIZER;CN="C.A.C. Vessel Unto Honour":MAILTO:VuntoH@hotmail.com
END:VEVENT
BEGIN:VEVENT
DTSTART;TZID=UTC:20270509T093000
DTEND;TZID=UTC:20270509T123000
DTSTAMP:20260422T074920
CREATED:20260118T104748Z
LAST-MODIFIED:20260118T104748Z
UID:10003809-1809855000-1809865800@www.cacvuh.org
SUMMARY:Sunday Service
DESCRIPTION:
URL:https://www.cacvuh.org/event/sunday-service/2027-05-09/
LOCATION:C.A.C. Vessel Unto Honour\, Mill Mead Business Centre\, Millmead Road\, Tottenham Hale\, London\, N17 9QU\, United Kingdom
ATTACH;FMTTYPE=image/jpeg:https://www.cacvuh.org/wp-content/uploads/2021/05/Sunday-Service_Announcement_1920x1080.jpg
ORGANIZER;CN="C.A.C. Vessel Unto Honour":MAILTO:VuntoH@hotmail.com
END:VEVENT
BEGIN:VEVENT
DTSTART;TZID=UTC:20270509T133000
DTEND;TZID=UTC:20270509T143000
DTSTAMP:20260422T074920
CREATED:20260118T105349Z
LAST-MODIFIED:20260118T105349Z
UID:10004017-1809869400-1809873000@www.cacvuh.org
SUMMARY:Spark Fellowship: Youth Service
DESCRIPTION:
URL:https://www.cacvuh.org/event/spark-fellowship-youth-service/2027-05-09/
LOCATION:C.A.C. Vessel Unto Honour\, Mill Mead Business Centre\, Millmead Road\, Tottenham Hale\, London\, N17 9QU\, United Kingdom
ATTACH;FMTTYPE=image/jpeg:https://www.cacvuh.org/wp-content/uploads/2024/10/rebrand-3_slide_final.jpg
END:VEVENT
BEGIN:VEVENT
DTSTART;TZID=UTC:20270511T080000
DTEND;TZID=UTC:20270511T170000
DTSTAMP:20260422T074920
CREATED:20260118T110823Z
LAST-MODIFIED:20260118T110823Z
UID:10004189-1810022400-1810054800@www.cacvuh.org
SUMMARY:Gathering of Glory
DESCRIPTION:
URL:https://www.cacvuh.org/event/gathering-of-glory/2027-05-11/
LOCATION:Zoom
ATTACH;FMTTYPE=image/jpeg:https://www.cacvuh.org/wp-content/uploads/2021/08/Gathering_Of_Glory_Announcement_1920x1080.jpg
END:VEVENT
BEGIN:VEVENT
DTSTART;TZID=UTC:20270516T093000
DTEND;TZID=UTC:20270516T123000
DTSTAMP:20260422T074920
CREATED:20260118T104748Z
LAST-MODIFIED:20260118T104748Z
UID:10003810-1810459800-1810470600@www.cacvuh.org
SUMMARY:Sunday Service
DESCRIPTION:
URL:https://www.cacvuh.org/event/sunday-service/2027-05-16/
LOCATION:C.A.C. Vessel Unto Honour\, Mill Mead Business Centre\, Millmead Road\, Tottenham Hale\, London\, N17 9QU\, United Kingdom
ATTACH;FMTTYPE=image/jpeg:https://www.cacvuh.org/wp-content/uploads/2021/05/Sunday-Service_Announcement_1920x1080.jpg
ORGANIZER;CN="C.A.C. Vessel Unto Honour":MAILTO:VuntoH@hotmail.com
END:VEVENT
BEGIN:VEVENT
DTSTART;TZID=UTC:20270516T133000
DTEND;TZID=UTC:20270516T143000
DTSTAMP:20260422T074920
CREATED:20260118T105638Z
LAST-MODIFIED:20260118T110349Z
UID:10004077-1810474200-1810477800@www.cacvuh.org
SUMMARY:Spark Fellowship: Spark Talk
DESCRIPTION:
URL:https://www.cacvuh.org/event/spark-fellowship-spark-talk/2027-05-16/
LOCATION:C.A.C. Vessel Unto Honour\, Mill Mead Business Centre\, Millmead Road\, Tottenham Hale\, London\, N17 9QU\, United Kingdom
ATTACH;FMTTYPE=image/jpeg:https://www.cacvuh.org/wp-content/uploads/2024/10/rebrand-3_slide_final.jpg
END:VEVENT
BEGIN:VEVENT
DTSTART;TZID=UTC:20270518T080000
DTEND;TZID=UTC:20270518T170000
DTSTAMP:20260422T074920
CREATED:20260118T110823Z
LAST-MODIFIED:20260118T110823Z
UID:10004190-1810627200-1810659600@www.cacvuh.org
SUMMARY:Gathering of Glory
DESCRIPTION:
URL:https://www.cacvuh.org/event/gathering-of-glory/2027-05-18/
LOCATION:Zoom
ATTACH;FMTTYPE=image/jpeg:https://www.cacvuh.org/wp-content/uploads/2021/08/Gathering_Of_Glory_Announcement_1920x1080.jpg
END:VEVENT
BEGIN:VEVENT
DTSTART;TZID=UTC:20270523T093000
DTEND;TZID=UTC:20270523T123000
DTSTAMP:20260422T074920
CREATED:20260118T104748Z
LAST-MODIFIED:20260118T104748Z
UID:10003811-1811064600-1811075400@www.cacvuh.org
SUMMARY:Sunday Service
DESCRIPTION:
URL:https://www.cacvuh.org/event/sunday-service/2027-05-23/
LOCATION:C.A.C. Vessel Unto Honour\, Mill Mead Business Centre\, Millmead Road\, Tottenham Hale\, London\, N17 9QU\, United Kingdom
ATTACH;FMTTYPE=image/jpeg:https://www.cacvuh.org/wp-content/uploads/2021/05/Sunday-Service_Announcement_1920x1080.jpg
ORGANIZER;CN="C.A.C. Vessel Unto Honour":MAILTO:VuntoH@hotmail.com
END:VEVENT
BEGIN:VEVENT
DTSTART;TZID=UTC:20270525T080000
DTEND;TZID=UTC:20270525T170000
DTSTAMP:20260422T074920
CREATED:20260118T110823Z
LAST-MODIFIED:20260118T110823Z
UID:10004191-1811232000-1811264400@www.cacvuh.org
SUMMARY:Gathering of Glory
DESCRIPTION:
URL:https://www.cacvuh.org/event/gathering-of-glory/2027-05-25/
LOCATION:Zoom
ATTACH;FMTTYPE=image/jpeg:https://www.cacvuh.org/wp-content/uploads/2021/08/Gathering_Of_Glory_Announcement_1920x1080.jpg
END:VEVENT
BEGIN:VEVENT
DTSTART;TZID=UTC:20270530T093000
DTEND;TZID=UTC:20270530T123000
DTSTAMP:20260422T074920
CREATED:20260118T104748Z
LAST-MODIFIED:20260118T104748Z
UID:10003812-1811669400-1811680200@www.cacvuh.org
SUMMARY:Sunday Service
DESCRIPTION:
URL:https://www.cacvuh.org/event/sunday-service/2027-05-30/
LOCATION:C.A.C. Vessel Unto Honour\, Mill Mead Business Centre\, Millmead Road\, Tottenham Hale\, London\, N17 9QU\, United Kingdom
ATTACH;FMTTYPE=image/jpeg:https://www.cacvuh.org/wp-content/uploads/2021/05/Sunday-Service_Announcement_1920x1080.jpg
ORGANIZER;CN="C.A.C. Vessel Unto Honour":MAILTO:VuntoH@hotmail.com
END:VEVENT
END:VCALENDAR