BEGIN:VCALENDAR
VERSION:2.0
PRODID:-//Vessel Unto Honour CAC - ECPv6.15.14//NONSGML v1.0//EN
CALSCALE:GREGORIAN
METHOD:PUBLISH
X-ORIGINAL-URL:https://www.cacvuh.org
X-WR-CALDESC:Events for Vessel Unto Honour CAC
REFRESH-INTERVAL;VALUE=DURATION:PT1H
X-Robots-Tag:noindex
X-PUBLISHED-TTL:PT1H
BEGIN:VTIMEZONE
TZID:UTC
BEGIN:STANDARD
TZOFFSETFROM:+0000
TZOFFSETTO:+0000
TZNAME:UTC
DTSTART:20260101T000000
END:STANDARD
END:VTIMEZONE
BEGIN:VEVENT
DTSTART;TZID=UTC:20270101T080000
DTEND;TZID=UTC:20270101T170000
DTSTAMP:20260422T013112
CREATED:20260118T111022Z
LAST-MODIFIED:20260118T111022Z
UID:10004393-1798790400-1798822800@www.cacvuh.org
SUMMARY:Eagles Night
DESCRIPTION:
URL:https://www.cacvuh.org/event/eagles-night/2027-01-01/
LOCATION:Zoom
ATTACH;FMTTYPE=image/jpeg:https://www.cacvuh.org/wp-content/uploads/2021/08/Eagles-Night_Announcement_1920x1080.jpg
ORGANIZER;CN="C.A.C. Vessel Unto Honour":MAILTO:VuntoH@hotmail.com
END:VEVENT
BEGIN:VEVENT
DTSTART;TZID=UTC:20270103T093000
DTEND;TZID=UTC:20270103T123000
DTSTAMP:20260422T013112
CREATED:20260118T104748Z
LAST-MODIFIED:20260118T104748Z
UID:10003791-1798968600-1798979400@www.cacvuh.org
SUMMARY:Sunday Service
DESCRIPTION:
URL:https://www.cacvuh.org/event/sunday-service/2027-01-03/
LOCATION:C.A.C. Vessel Unto Honour\, Mill Mead Business Centre\, Millmead Road\, Tottenham Hale\, London\, N17 9QU\, United Kingdom
ATTACH;FMTTYPE=image/jpeg:https://www.cacvuh.org/wp-content/uploads/2021/05/Sunday-Service_Announcement_1920x1080.jpg
ORGANIZER;CN="C.A.C. Vessel Unto Honour":MAILTO:VuntoH@hotmail.com
END:VEVENT
BEGIN:VEVENT
DTSTART;TZID=UTC:20270105T080000
DTEND;TZID=UTC:20270105T170000
DTSTAMP:20260422T013112
CREATED:20260118T110823Z
LAST-MODIFIED:20260118T110823Z
UID:10004171-1799136000-1799168400@www.cacvuh.org
SUMMARY:Gathering of Glory
DESCRIPTION:
URL:https://www.cacvuh.org/event/gathering-of-glory/2027-01-05/
LOCATION:Zoom
ATTACH;FMTTYPE=image/jpeg:https://www.cacvuh.org/wp-content/uploads/2021/08/Gathering_Of_Glory_Announcement_1920x1080.jpg
END:VEVENT
BEGIN:VEVENT
DTSTART;TZID=UTC:20270110T093000
DTEND;TZID=UTC:20270110T123000
DTSTAMP:20260422T013112
CREATED:20260118T104748Z
LAST-MODIFIED:20260118T104748Z
UID:10003792-1799573400-1799584200@www.cacvuh.org
SUMMARY:Sunday Service
DESCRIPTION:
URL:https://www.cacvuh.org/event/sunday-service/2027-01-10/
LOCATION:C.A.C. Vessel Unto Honour\, Mill Mead Business Centre\, Millmead Road\, Tottenham Hale\, London\, N17 9QU\, United Kingdom
ATTACH;FMTTYPE=image/jpeg:https://www.cacvuh.org/wp-content/uploads/2021/05/Sunday-Service_Announcement_1920x1080.jpg
ORGANIZER;CN="C.A.C. Vessel Unto Honour":MAILTO:VuntoH@hotmail.com
END:VEVENT
BEGIN:VEVENT
DTSTART;TZID=UTC:20270110T133000
DTEND;TZID=UTC:20270110T143000
DTSTAMP:20260422T013112
CREATED:20260118T105349Z
LAST-MODIFIED:20260118T105349Z
UID:10004013-1799587800-1799591400@www.cacvuh.org
SUMMARY:Spark Fellowship: Youth Service
DESCRIPTION:
URL:https://www.cacvuh.org/event/spark-fellowship-youth-service/2027-01-10/
LOCATION:C.A.C. Vessel Unto Honour\, Mill Mead Business Centre\, Millmead Road\, Tottenham Hale\, London\, N17 9QU\, United Kingdom
ATTACH;FMTTYPE=image/jpeg:https://www.cacvuh.org/wp-content/uploads/2024/10/rebrand-3_slide_final.jpg
END:VEVENT
BEGIN:VEVENT
DTSTART;TZID=UTC:20270112T080000
DTEND;TZID=UTC:20270112T170000
DTSTAMP:20260422T013112
CREATED:20260118T110823Z
LAST-MODIFIED:20260118T110823Z
UID:10004172-1799740800-1799773200@www.cacvuh.org
SUMMARY:Gathering of Glory
DESCRIPTION:
URL:https://www.cacvuh.org/event/gathering-of-glory/2027-01-12/
LOCATION:Zoom
ATTACH;FMTTYPE=image/jpeg:https://www.cacvuh.org/wp-content/uploads/2021/08/Gathering_Of_Glory_Announcement_1920x1080.jpg
END:VEVENT
BEGIN:VEVENT
DTSTART;TZID=UTC:20270117T093000
DTEND;TZID=UTC:20270117T123000
DTSTAMP:20260422T013112
CREATED:20260118T104748Z
LAST-MODIFIED:20260118T104748Z
UID:10003793-1800178200-1800189000@www.cacvuh.org
SUMMARY:Sunday Service
DESCRIPTION:
URL:https://www.cacvuh.org/event/sunday-service/2027-01-17/
LOCATION:C.A.C. Vessel Unto Honour\, Mill Mead Business Centre\, Millmead Road\, Tottenham Hale\, London\, N17 9QU\, United Kingdom
ATTACH;FMTTYPE=image/jpeg:https://www.cacvuh.org/wp-content/uploads/2021/05/Sunday-Service_Announcement_1920x1080.jpg
ORGANIZER;CN="C.A.C. Vessel Unto Honour":MAILTO:VuntoH@hotmail.com
END:VEVENT
BEGIN:VEVENT
DTSTART;TZID=UTC:20270117T133000
DTEND;TZID=UTC:20270117T143000
DTSTAMP:20260422T013112
CREATED:20260118T105638Z
LAST-MODIFIED:20260118T110349Z
UID:10004073-1800192600-1800196200@www.cacvuh.org
SUMMARY:Spark Fellowship: Spark Talk
DESCRIPTION:
URL:https://www.cacvuh.org/event/spark-fellowship-spark-talk/2027-01-17/
LOCATION:C.A.C. Vessel Unto Honour\, Mill Mead Business Centre\, Millmead Road\, Tottenham Hale\, London\, N17 9QU\, United Kingdom
ATTACH;FMTTYPE=image/jpeg:https://www.cacvuh.org/wp-content/uploads/2024/10/rebrand-3_slide_final.jpg
END:VEVENT
BEGIN:VEVENT
DTSTART;TZID=UTC:20270119T080000
DTEND;TZID=UTC:20270119T170000
DTSTAMP:20260422T013112
CREATED:20260118T110823Z
LAST-MODIFIED:20260118T110823Z
UID:10004173-1800345600-1800378000@www.cacvuh.org
SUMMARY:Gathering of Glory
DESCRIPTION:
URL:https://www.cacvuh.org/event/gathering-of-glory/2027-01-19/
LOCATION:Zoom
ATTACH;FMTTYPE=image/jpeg:https://www.cacvuh.org/wp-content/uploads/2021/08/Gathering_Of_Glory_Announcement_1920x1080.jpg
END:VEVENT
BEGIN:VEVENT
DTSTART;TZID=UTC:20270124T093000
DTEND;TZID=UTC:20270124T123000
DTSTAMP:20260422T013112
CREATED:20260118T104748Z
LAST-MODIFIED:20260118T104748Z
UID:10003794-1800783000-1800793800@www.cacvuh.org
SUMMARY:Sunday Service
DESCRIPTION:
URL:https://www.cacvuh.org/event/sunday-service/2027-01-24/
LOCATION:C.A.C. Vessel Unto Honour\, Mill Mead Business Centre\, Millmead Road\, Tottenham Hale\, London\, N17 9QU\, United Kingdom
ATTACH;FMTTYPE=image/jpeg:https://www.cacvuh.org/wp-content/uploads/2021/05/Sunday-Service_Announcement_1920x1080.jpg
ORGANIZER;CN="C.A.C. Vessel Unto Honour":MAILTO:VuntoH@hotmail.com
END:VEVENT
BEGIN:VEVENT
DTSTART;TZID=UTC:20270126T080000
DTEND;TZID=UTC:20270126T170000
DTSTAMP:20260422T013112
CREATED:20260118T110823Z
LAST-MODIFIED:20260118T110823Z
UID:10004174-1800950400-1800982800@www.cacvuh.org
SUMMARY:Gathering of Glory
DESCRIPTION:
URL:https://www.cacvuh.org/event/gathering-of-glory/2027-01-26/
LOCATION:Zoom
ATTACH;FMTTYPE=image/jpeg:https://www.cacvuh.org/wp-content/uploads/2021/08/Gathering_Of_Glory_Announcement_1920x1080.jpg
END:VEVENT
BEGIN:VEVENT
DTSTART;TZID=UTC:20270131T093000
DTEND;TZID=UTC:20270131T123000
DTSTAMP:20260422T013112
CREATED:20260118T104748Z
LAST-MODIFIED:20260118T104748Z
UID:10003795-1801387800-1801398600@www.cacvuh.org
SUMMARY:Sunday Service
DESCRIPTION:
URL:https://www.cacvuh.org/event/sunday-service/2027-01-31/
LOCATION:C.A.C. Vessel Unto Honour\, Mill Mead Business Centre\, Millmead Road\, Tottenham Hale\, London\, N17 9QU\, United Kingdom
ATTACH;FMTTYPE=image/jpeg:https://www.cacvuh.org/wp-content/uploads/2021/05/Sunday-Service_Announcement_1920x1080.jpg
ORGANIZER;CN="C.A.C. Vessel Unto Honour":MAILTO:VuntoH@hotmail.com
END:VEVENT
END:VCALENDAR