BEGIN:VCALENDAR
VERSION:2.0
PRODID:-//Vessel Unto Honour CAC - ECPv6.15.14//NONSGML v1.0//EN
CALSCALE:GREGORIAN
METHOD:PUBLISH
X-WR-CALNAME:Vessel Unto Honour CAC
X-ORIGINAL-URL:https://www.cacvuh.org
X-WR-CALDESC:Events for Vessel Unto Honour CAC
REFRESH-INTERVAL;VALUE=DURATION:PT1H
X-Robots-Tag:noindex
X-PUBLISHED-TTL:PT1H
BEGIN:VTIMEZONE
TZID:UTC
BEGIN:STANDARD
TZOFFSETFROM:+0000
TZOFFSETTO:+0000
TZNAME:UTC
DTSTART:20250101T000000
END:STANDARD
END:VTIMEZONE
BEGIN:VEVENT
DTSTART;TZID=UTC:20261201T080000
DTEND;TZID=UTC:20261201T170000
DTSTAMP:20260422T000701
CREATED:20260118T110823Z
LAST-MODIFIED:20260118T110823Z
UID:10004166-1796112000-1796144400@www.cacvuh.org
SUMMARY:Gathering of Glory
DESCRIPTION:
URL:https://www.cacvuh.org/event/gathering-of-glory/2026-12-01/
LOCATION:Zoom
ATTACH;FMTTYPE=image/jpeg:https://www.cacvuh.org/wp-content/uploads/2021/08/Gathering_Of_Glory_Announcement_1920x1080.jpg
END:VEVENT
BEGIN:VEVENT
DTSTART;TZID=UTC:20261204T080000
DTEND;TZID=UTC:20261204T170000
DTSTAMP:20260422T000701
CREATED:20260118T111022Z
LAST-MODIFIED:20260118T111022Z
UID:10004392-1796371200-1796403600@www.cacvuh.org
SUMMARY:Eagles Night
DESCRIPTION:
URL:https://www.cacvuh.org/event/eagles-night/2026-12-04/
LOCATION:Zoom
ATTACH;FMTTYPE=image/jpeg:https://www.cacvuh.org/wp-content/uploads/2021/08/Eagles-Night_Announcement_1920x1080.jpg
ORGANIZER;CN="C.A.C. Vessel Unto Honour":MAILTO:VuntoH@hotmail.com
END:VEVENT
BEGIN:VEVENT
DTSTART;TZID=UTC:20261206T093000
DTEND;TZID=UTC:20261206T123000
DTSTAMP:20260422T000701
CREATED:20260118T104748Z
LAST-MODIFIED:20260118T104748Z
UID:10003787-1796549400-1796560200@www.cacvuh.org
SUMMARY:Sunday Service
DESCRIPTION:
URL:https://www.cacvuh.org/event/sunday-service/2026-12-06/
LOCATION:C.A.C. Vessel Unto Honour\, Mill Mead Business Centre\, Millmead Road\, Tottenham Hale\, London\, N17 9QU\, United Kingdom
ATTACH;FMTTYPE=image/jpeg:https://www.cacvuh.org/wp-content/uploads/2021/05/Sunday-Service_Announcement_1920x1080.jpg
ORGANIZER;CN="C.A.C. Vessel Unto Honour":MAILTO:VuntoH@hotmail.com
END:VEVENT
BEGIN:VEVENT
DTSTART;TZID=UTC:20261208T080000
DTEND;TZID=UTC:20261208T170000
DTSTAMP:20260422T000701
CREATED:20260118T110823Z
LAST-MODIFIED:20260118T110823Z
UID:10004167-1796716800-1796749200@www.cacvuh.org
SUMMARY:Gathering of Glory
DESCRIPTION:
URL:https://www.cacvuh.org/event/gathering-of-glory/2026-12-08/
LOCATION:Zoom
ATTACH;FMTTYPE=image/jpeg:https://www.cacvuh.org/wp-content/uploads/2021/08/Gathering_Of_Glory_Announcement_1920x1080.jpg
END:VEVENT
BEGIN:VEVENT
DTSTART;TZID=UTC:20261213T093000
DTEND;TZID=UTC:20261213T123000
DTSTAMP:20260422T000701
CREATED:20260118T104748Z
LAST-MODIFIED:20260118T104748Z
UID:10003788-1797154200-1797165000@www.cacvuh.org
SUMMARY:Sunday Service
DESCRIPTION:
URL:https://www.cacvuh.org/event/sunday-service/2026-12-13/
LOCATION:C.A.C. Vessel Unto Honour\, Mill Mead Business Centre\, Millmead Road\, Tottenham Hale\, London\, N17 9QU\, United Kingdom
ATTACH;FMTTYPE=image/jpeg:https://www.cacvuh.org/wp-content/uploads/2021/05/Sunday-Service_Announcement_1920x1080.jpg
ORGANIZER;CN="C.A.C. Vessel Unto Honour":MAILTO:VuntoH@hotmail.com
END:VEVENT
BEGIN:VEVENT
DTSTART;TZID=UTC:20261213T133000
DTEND;TZID=UTC:20261213T143000
DTSTAMP:20260422T000701
CREATED:20260118T105349Z
LAST-MODIFIED:20260118T105349Z
UID:10004012-1797168600-1797172200@www.cacvuh.org
SUMMARY:Spark Fellowship: Youth Service
DESCRIPTION:
URL:https://www.cacvuh.org/event/spark-fellowship-youth-service/2026-12-13/
LOCATION:C.A.C. Vessel Unto Honour\, Mill Mead Business Centre\, Millmead Road\, Tottenham Hale\, London\, N17 9QU\, United Kingdom
ATTACH;FMTTYPE=image/jpeg:https://www.cacvuh.org/wp-content/uploads/2024/10/rebrand-3_slide_final.jpg
END:VEVENT
BEGIN:VEVENT
DTSTART;TZID=UTC:20261215T080000
DTEND;TZID=UTC:20261215T170000
DTSTAMP:20260422T000701
CREATED:20260118T110823Z
LAST-MODIFIED:20260118T110823Z
UID:10004168-1797321600-1797354000@www.cacvuh.org
SUMMARY:Gathering of Glory
DESCRIPTION:
URL:https://www.cacvuh.org/event/gathering-of-glory/2026-12-15/
LOCATION:Zoom
ATTACH;FMTTYPE=image/jpeg:https://www.cacvuh.org/wp-content/uploads/2021/08/Gathering_Of_Glory_Announcement_1920x1080.jpg
END:VEVENT
BEGIN:VEVENT
DTSTART;TZID=UTC:20261220T093000
DTEND;TZID=UTC:20261220T123000
DTSTAMP:20260422T000701
CREATED:20260118T104748Z
LAST-MODIFIED:20260118T104748Z
UID:10003789-1797759000-1797769800@www.cacvuh.org
SUMMARY:Sunday Service
DESCRIPTION:
URL:https://www.cacvuh.org/event/sunday-service/2026-12-20/
LOCATION:C.A.C. Vessel Unto Honour\, Mill Mead Business Centre\, Millmead Road\, Tottenham Hale\, London\, N17 9QU\, United Kingdom
ATTACH;FMTTYPE=image/jpeg:https://www.cacvuh.org/wp-content/uploads/2021/05/Sunday-Service_Announcement_1920x1080.jpg
ORGANIZER;CN="C.A.C. Vessel Unto Honour":MAILTO:VuntoH@hotmail.com
END:VEVENT
BEGIN:VEVENT
DTSTART;TZID=UTC:20261220T133000
DTEND;TZID=UTC:20261220T143000
DTSTAMP:20260422T000701
CREATED:20260118T105638Z
LAST-MODIFIED:20260118T110349Z
UID:10004072-1797773400-1797777000@www.cacvuh.org
SUMMARY:Spark Fellowship: Spark Talk
DESCRIPTION:
URL:https://www.cacvuh.org/event/spark-fellowship-spark-talk/2026-12-20/
LOCATION:C.A.C. Vessel Unto Honour\, Mill Mead Business Centre\, Millmead Road\, Tottenham Hale\, London\, N17 9QU\, United Kingdom
ATTACH;FMTTYPE=image/jpeg:https://www.cacvuh.org/wp-content/uploads/2024/10/rebrand-3_slide_final.jpg
END:VEVENT
BEGIN:VEVENT
DTSTART;TZID=UTC:20261222T080000
DTEND;TZID=UTC:20261222T170000
DTSTAMP:20260422T000701
CREATED:20260118T110823Z
LAST-MODIFIED:20260118T110823Z
UID:10004169-1797926400-1797958800@www.cacvuh.org
SUMMARY:Gathering of Glory
DESCRIPTION:
URL:https://www.cacvuh.org/event/gathering-of-glory/2026-12-22/
LOCATION:Zoom
ATTACH;FMTTYPE=image/jpeg:https://www.cacvuh.org/wp-content/uploads/2021/08/Gathering_Of_Glory_Announcement_1920x1080.jpg
END:VEVENT
BEGIN:VEVENT
DTSTART;TZID=UTC:20261227T093000
DTEND;TZID=UTC:20261227T123000
DTSTAMP:20260422T000701
CREATED:20260118T104748Z
LAST-MODIFIED:20260118T104748Z
UID:10003790-1798363800-1798374600@www.cacvuh.org
SUMMARY:Sunday Service
DESCRIPTION:
URL:https://www.cacvuh.org/event/sunday-service/2026-12-27/
LOCATION:C.A.C. Vessel Unto Honour\, Mill Mead Business Centre\, Millmead Road\, Tottenham Hale\, London\, N17 9QU\, United Kingdom
ATTACH;FMTTYPE=image/jpeg:https://www.cacvuh.org/wp-content/uploads/2021/05/Sunday-Service_Announcement_1920x1080.jpg
ORGANIZER;CN="C.A.C. Vessel Unto Honour":MAILTO:VuntoH@hotmail.com
END:VEVENT
BEGIN:VEVENT
DTSTART;TZID=UTC:20261229T080000
DTEND;TZID=UTC:20261229T170000
DTSTAMP:20260422T000701
CREATED:20260118T110823Z
LAST-MODIFIED:20260118T110823Z
UID:10004170-1798531200-1798563600@www.cacvuh.org
SUMMARY:Gathering of Glory
DESCRIPTION:
URL:https://www.cacvuh.org/event/gathering-of-glory/2026-12-29/
LOCATION:Zoom
ATTACH;FMTTYPE=image/jpeg:https://www.cacvuh.org/wp-content/uploads/2021/08/Gathering_Of_Glory_Announcement_1920x1080.jpg
END:VEVENT
END:VCALENDAR