BEGIN:VCALENDAR
VERSION:2.0
PRODID:-//Vessel Unto Honour CAC - ECPv6.15.14//NONSGML v1.0//EN
CALSCALE:GREGORIAN
METHOD:PUBLISH
X-ORIGINAL-URL:https://www.cacvuh.org
X-WR-CALDESC:Events for Vessel Unto Honour CAC
REFRESH-INTERVAL;VALUE=DURATION:PT1H
X-Robots-Tag:noindex
X-PUBLISHED-TTL:PT1H
BEGIN:VTIMEZONE
TZID:UTC
BEGIN:STANDARD
TZOFFSETFROM:+0000
TZOFFSETTO:+0000
TZNAME:UTC
DTSTART:20250101T000000
END:STANDARD
END:VTIMEZONE
BEGIN:VEVENT
DTSTART;TZID=UTC:20260901T080000
DTEND;TZID=UTC:20260901T170000
DTSTAMP:20260421T200907
CREATED:20260118T110823Z
LAST-MODIFIED:20260118T110823Z
UID:10004153-1788249600-1788282000@www.cacvuh.org
SUMMARY:Gathering of Glory
DESCRIPTION:
URL:https://www.cacvuh.org/event/gathering-of-glory/2026-09-01/
LOCATION:Zoom
ATTACH;FMTTYPE=image/jpeg:https://www.cacvuh.org/wp-content/uploads/2021/08/Gathering_Of_Glory_Announcement_1920x1080.jpg
END:VEVENT
BEGIN:VEVENT
DTSTART;TZID=UTC:20260904T080000
DTEND;TZID=UTC:20260904T170000
DTSTAMP:20260421T200907
CREATED:20260118T111022Z
LAST-MODIFIED:20260118T111022Z
UID:10004389-1788508800-1788541200@www.cacvuh.org
SUMMARY:Eagles Night
DESCRIPTION:
URL:https://www.cacvuh.org/event/eagles-night/2026-09-04/
LOCATION:Zoom
ATTACH;FMTTYPE=image/jpeg:https://www.cacvuh.org/wp-content/uploads/2021/08/Eagles-Night_Announcement_1920x1080.jpg
ORGANIZER;CN="C.A.C. Vessel Unto Honour":MAILTO:VuntoH@hotmail.com
END:VEVENT
BEGIN:VEVENT
DTSTART;TZID=UTC:20260906T093000
DTEND;TZID=UTC:20260906T123000
DTSTAMP:20260421T200907
CREATED:20260118T104748Z
LAST-MODIFIED:20260118T104748Z
UID:10003774-1788687000-1788697800@www.cacvuh.org
SUMMARY:Sunday Service
DESCRIPTION:
URL:https://www.cacvuh.org/event/sunday-service/2026-09-06/
LOCATION:C.A.C. Vessel Unto Honour\, Mill Mead Business Centre\, Millmead Road\, Tottenham Hale\, London\, N17 9QU\, United Kingdom
ATTACH;FMTTYPE=image/jpeg:https://www.cacvuh.org/wp-content/uploads/2021/05/Sunday-Service_Announcement_1920x1080.jpg
ORGANIZER;CN="C.A.C. Vessel Unto Honour":MAILTO:VuntoH@hotmail.com
END:VEVENT
BEGIN:VEVENT
DTSTART;TZID=UTC:20260908T080000
DTEND;TZID=UTC:20260908T170000
DTSTAMP:20260421T200907
CREATED:20260118T110823Z
LAST-MODIFIED:20260118T110823Z
UID:10004154-1788854400-1788886800@www.cacvuh.org
SUMMARY:Gathering of Glory
DESCRIPTION:
URL:https://www.cacvuh.org/event/gathering-of-glory/2026-09-08/
LOCATION:Zoom
ATTACH;FMTTYPE=image/jpeg:https://www.cacvuh.org/wp-content/uploads/2021/08/Gathering_Of_Glory_Announcement_1920x1080.jpg
END:VEVENT
BEGIN:VEVENT
DTSTART;TZID=UTC:20260913T093000
DTEND;TZID=UTC:20260913T123000
DTSTAMP:20260421T200907
CREATED:20260118T104748Z
LAST-MODIFIED:20260118T104748Z
UID:10003775-1789291800-1789302600@www.cacvuh.org
SUMMARY:Sunday Service
DESCRIPTION:
URL:https://www.cacvuh.org/event/sunday-service/2026-09-13/
LOCATION:C.A.C. Vessel Unto Honour\, Mill Mead Business Centre\, Millmead Road\, Tottenham Hale\, London\, N17 9QU\, United Kingdom
ATTACH;FMTTYPE=image/jpeg:https://www.cacvuh.org/wp-content/uploads/2021/05/Sunday-Service_Announcement_1920x1080.jpg
ORGANIZER;CN="C.A.C. Vessel Unto Honour":MAILTO:VuntoH@hotmail.com
END:VEVENT
BEGIN:VEVENT
DTSTART;TZID=UTC:20260913T133000
DTEND;TZID=UTC:20260913T143000
DTSTAMP:20260421T200907
CREATED:20260118T105349Z
LAST-MODIFIED:20260118T105349Z
UID:10004009-1789306200-1789309800@www.cacvuh.org
SUMMARY:Spark Fellowship: Youth Service
DESCRIPTION:
URL:https://www.cacvuh.org/event/spark-fellowship-youth-service/2026-09-13/
LOCATION:C.A.C. Vessel Unto Honour\, Mill Mead Business Centre\, Millmead Road\, Tottenham Hale\, London\, N17 9QU\, United Kingdom
ATTACH;FMTTYPE=image/jpeg:https://www.cacvuh.org/wp-content/uploads/2024/10/rebrand-3_slide_final.jpg
END:VEVENT
BEGIN:VEVENT
DTSTART;TZID=UTC:20260915T080000
DTEND;TZID=UTC:20260915T170000
DTSTAMP:20260421T200907
CREATED:20260118T110823Z
LAST-MODIFIED:20260118T110823Z
UID:10004155-1789459200-1789491600@www.cacvuh.org
SUMMARY:Gathering of Glory
DESCRIPTION:
URL:https://www.cacvuh.org/event/gathering-of-glory/2026-09-15/
LOCATION:Zoom
ATTACH;FMTTYPE=image/jpeg:https://www.cacvuh.org/wp-content/uploads/2021/08/Gathering_Of_Glory_Announcement_1920x1080.jpg
END:VEVENT
BEGIN:VEVENT
DTSTART;TZID=UTC:20260920T093000
DTEND;TZID=UTC:20260920T123000
DTSTAMP:20260421T200907
CREATED:20260118T104748Z
LAST-MODIFIED:20260118T104748Z
UID:10003776-1789896600-1789907400@www.cacvuh.org
SUMMARY:Sunday Service
DESCRIPTION:
URL:https://www.cacvuh.org/event/sunday-service/2026-09-20/
LOCATION:C.A.C. Vessel Unto Honour\, Mill Mead Business Centre\, Millmead Road\, Tottenham Hale\, London\, N17 9QU\, United Kingdom
ATTACH;FMTTYPE=image/jpeg:https://www.cacvuh.org/wp-content/uploads/2021/05/Sunday-Service_Announcement_1920x1080.jpg
ORGANIZER;CN="C.A.C. Vessel Unto Honour":MAILTO:VuntoH@hotmail.com
END:VEVENT
BEGIN:VEVENT
DTSTART;TZID=UTC:20260920T133000
DTEND;TZID=UTC:20260920T143000
DTSTAMP:20260421T200907
CREATED:20260118T105638Z
LAST-MODIFIED:20260118T110349Z
UID:10004069-1789911000-1789914600@www.cacvuh.org
SUMMARY:Spark Fellowship: Spark Talk
DESCRIPTION:
URL:https://www.cacvuh.org/event/spark-fellowship-spark-talk/2026-09-20/
LOCATION:C.A.C. Vessel Unto Honour\, Mill Mead Business Centre\, Millmead Road\, Tottenham Hale\, London\, N17 9QU\, United Kingdom
ATTACH;FMTTYPE=image/jpeg:https://www.cacvuh.org/wp-content/uploads/2024/10/rebrand-3_slide_final.jpg
END:VEVENT
BEGIN:VEVENT
DTSTART;TZID=UTC:20260922T080000
DTEND;TZID=UTC:20260922T170000
DTSTAMP:20260421T200907
CREATED:20260118T110823Z
LAST-MODIFIED:20260118T110823Z
UID:10004156-1790064000-1790096400@www.cacvuh.org
SUMMARY:Gathering of Glory
DESCRIPTION:
URL:https://www.cacvuh.org/event/gathering-of-glory/2026-09-22/
LOCATION:Zoom
ATTACH;FMTTYPE=image/jpeg:https://www.cacvuh.org/wp-content/uploads/2021/08/Gathering_Of_Glory_Announcement_1920x1080.jpg
END:VEVENT
BEGIN:VEVENT
DTSTART;TZID=UTC:20260927T093000
DTEND;TZID=UTC:20260927T123000
DTSTAMP:20260421T200907
CREATED:20260118T104748Z
LAST-MODIFIED:20260118T104748Z
UID:10003777-1790501400-1790512200@www.cacvuh.org
SUMMARY:Sunday Service
DESCRIPTION:
URL:https://www.cacvuh.org/event/sunday-service/2026-09-27/
LOCATION:C.A.C. Vessel Unto Honour\, Mill Mead Business Centre\, Millmead Road\, Tottenham Hale\, London\, N17 9QU\, United Kingdom
ATTACH;FMTTYPE=image/jpeg:https://www.cacvuh.org/wp-content/uploads/2021/05/Sunday-Service_Announcement_1920x1080.jpg
ORGANIZER;CN="C.A.C. Vessel Unto Honour":MAILTO:VuntoH@hotmail.com
END:VEVENT
BEGIN:VEVENT
DTSTART;TZID=UTC:20260929T080000
DTEND;TZID=UTC:20260929T170000
DTSTAMP:20260421T200907
CREATED:20260118T110823Z
LAST-MODIFIED:20260118T110823Z
UID:10004157-1790668800-1790701200@www.cacvuh.org
SUMMARY:Gathering of Glory
DESCRIPTION:
URL:https://www.cacvuh.org/event/gathering-of-glory/2026-09-29/
LOCATION:Zoom
ATTACH;FMTTYPE=image/jpeg:https://www.cacvuh.org/wp-content/uploads/2021/08/Gathering_Of_Glory_Announcement_1920x1080.jpg
END:VEVENT
END:VCALENDAR