BEGIN:VCALENDAR
VERSION:2.0
PRODID:-//Vessel Unto Honour CAC - ECPv6.15.14//NONSGML v1.0//EN
CALSCALE:GREGORIAN
METHOD:PUBLISH
X-WR-CALNAME:Vessel Unto Honour CAC
X-ORIGINAL-URL:https://www.cacvuh.org
X-WR-CALDESC:Events for Vessel Unto Honour CAC
REFRESH-INTERVAL;VALUE=DURATION:PT1H
X-Robots-Tag:noindex
X-PUBLISHED-TTL:PT1H
BEGIN:VTIMEZONE
TZID:UTC
BEGIN:STANDARD
TZOFFSETFROM:+0000
TZOFFSETTO:+0000
TZNAME:UTC
DTSTART:20250101T000000
END:STANDARD
END:VTIMEZONE
BEGIN:VEVENT
DTSTART;TZID=UTC:20260501T080000
DTEND;TZID=UTC:20260501T170000
DTSTAMP:20260421T145458
CREATED:20260118T111022Z
LAST-MODIFIED:20260118T111022Z
UID:10004385-1777622400-1777654800@www.cacvuh.org
SUMMARY:Eagles Night
DESCRIPTION:
URL:https://www.cacvuh.org/event/eagles-night/2026-05-01/
LOCATION:Zoom
ATTACH;FMTTYPE=image/jpeg:https://www.cacvuh.org/wp-content/uploads/2021/08/Eagles-Night_Announcement_1920x1080.jpg
ORGANIZER;CN="C.A.C. Vessel Unto Honour":MAILTO:VuntoH@hotmail.com
END:VEVENT
END:VCALENDAR